BEGIN:VCALENDAR
VERSION:2.0
PRODID:-//SCILGOP - ECPv6.15.20//NONSGML v1.0//EN
CALSCALE:GREGORIAN
METHOD:PUBLISH
X-WR-CALNAME:SCILGOP
X-ORIGINAL-URL:https://stclaircountyrepublicans.com
X-WR-CALDESC:Events for SCILGOP
REFRESH-INTERVAL;VALUE=DURATION:PT1H
X-Robots-Tag:noindex
X-PUBLISHED-TTL:PT1H
BEGIN:VTIMEZONE
TZID:UTC
BEGIN:STANDARD
TZOFFSETFROM:+0000
TZOFFSETTO:+0000
TZNAME:UTC
DTSTART:20240101T000000
END:STANDARD
END:VTIMEZONE
BEGIN:VEVENT
DTSTART;TZID=UTC:20251021T170000
DTEND;TZID=UTC:20251021T190000
DTSTAMP:20260420T104624
CREATED:20250802T175330Z
LAST-MODIFIED:20250802T175330Z
UID:2572-1761066000-1761073200@stclaircountyrepublicans.com
SUMMARY:Sen. Erica Harriss – Fall Reception
DESCRIPTION:Please Join Us For A Reception for Senator Erica Harriss \nTuesday\, October 21st \nVFW Post 1117 \n415 N. Long Street\, Caseyville\, IL \n5PM – 7PM \n$25 Per Person \nSponsorships: \nGold: $1\,000 | Silver: $500 | Bronze: $250 | Friend: $100 \nFor more information or to RSVP: Roxanne at 217.622.4406 or roxanne@isrvf.com
URL:https://stclaircountyrepublicans.com/event/sen-erica-harriss-fall-reception/
LOCATION:Caseyville VFW\, 415 N. Long Street\, Caseyville\, IL\, 62232\, United States
CATEGORIES:Fundraiser
ATTACH;FMTTYPE=image/png:https://stclaircountyrepublicans.com/wp-content/uploads/2025/08/Erica-Fall-Invite-PDF.png
END:VEVENT
END:VCALENDAR