BEGIN:VCALENDAR
VERSION:2.0
PRODID:-//SCILGOP - ECPv6.15.20//NONSGML v1.0//EN
CALSCALE:GREGORIAN
METHOD:PUBLISH
X-ORIGINAL-URL:https://stclaircountyrepublicans.com
X-WR-CALDESC:Events for SCILGOP
REFRESH-INTERVAL;VALUE=DURATION:PT1H
X-Robots-Tag:noindex
X-PUBLISHED-TTL:PT1H
BEGIN:VTIMEZONE
TZID:UTC
BEGIN:STANDARD
TZOFFSETFROM:+0000
TZOFFSETTO:+0000
TZNAME:UTC
DTSTART:20240101T000000
END:STANDARD
END:VTIMEZONE
BEGIN:VEVENT
DTSTART;TZID=UTC:20251109T160000
DTEND;TZID=UTC:20251109T190000
DTSTAMP:20260420T094023
CREATED:20251030T193546Z
LAST-MODIFIED:20251030T193546Z
UID:2633-1762704000-1762714800@stclaircountyrepublicans.com
SUMMARY:Rally for Ed Cockrell - Chicken Fry
DESCRIPTION:Rally for Ed Cockrell \nChicken Fry \nSunday\, November 9th \n4PM – 7PM \nHenry Schmitz Legion Hall\, Post #683 \n7236 State Route 15\, St. Libory\, IL 62282 \nYour Support is Greatly Appreciated \nNo Charge/Donations Accepted \nFeel free to bring your favorite dessert to share. Cash Bar. Bring your family and friends! \nLet’s show support for Ed! \nContact Ed Cockrell at 618.406.5767 with any questions
URL:https://stclaircountyrepublicans.com/event/rally-for-ed-cockrell-chicken-fry/
LOCATION:Henry Schmitz Legion Hall – St. Libory\, 7236 State Route 15\, St. Libory\, IL\, 62282\, United States
CATEGORIES:Fundraiser
ATTACH;FMTTYPE=image/jpeg:https://stclaircountyrepublicans.com/wp-content/uploads/2025/10/Ed-Cockrell-Fundraiser.jpg
END:VEVENT
END:VCALENDAR